BEGIN:VCALENDAR
VERSION:2.0
PRODID:-//Partington Parish Council//Meeting Calendar//EN
CALSCALE:GREGORIAN
METHOD:PUBLISH
BEGIN:VEVENT
UID:71600-20260415@partingtonparishcouncil.gov.uk
DTSTAMP:20260421T165714Z
DTSTART;VALUE=DATE:20260415
DTEND;VALUE=DATE:20260416
SUMMARY:Council meeting 2026-04
DESCRIPTION:Full Council Meeting\nView details: https://partingtonparishcouncil.gov.uk/meetings/council-meeting-2026-04/
URL:https://partingtonparishcouncil.gov.uk/meetings/council-meeting-2026-04/
END:VEVENT
END:VCALENDAR
