BEGIN:VCALENDAR
VERSION:2.0
PRODID:-//Partington Parish Council//Meeting Calendar//EN
CALSCALE:GREGORIAN
METHOD:PUBLISH
BEGIN:VEVENT
UID:71467-20260114@partingtonparishcouncil.gov.uk
DTSTAMP:20260421T170827Z
DTSTART;VALUE=DATE:20260114
DTEND;VALUE=DATE:20260115
SUMMARY:Council meeting 2026-01
DESCRIPTION:Full Council Meeting\nView details: https://partingtonparishcouncil.gov.uk/meetings/council-meeting-2026-01/
URL:https://partingtonparishcouncil.gov.uk/meetings/council-meeting-2026-01/
END:VEVENT
END:VCALENDAR
