BEGIN:VCALENDAR
VERSION:2.0
PRODID:-//Partington Parish Council//Meeting Calendar//EN
CALSCALE:GREGORIAN
METHOD:PUBLISH
BEGIN:VEVENT
UID:71465-20251112@partingtonparishcouncil.gov.uk
DTSTAMP:20260424T084654Z
DTSTART;VALUE=DATE:20251112
DTEND;VALUE=DATE:20251113
SUMMARY:Council meeting 2025-11
DESCRIPTION:Full Council Meeting\nView details: https://partingtonparishcouncil.gov.uk/meetings/council-meeting-2025-11/
URL:https://partingtonparishcouncil.gov.uk/meetings/council-meeting-2025-11/
END:VEVENT
END:VCALENDAR
