BEGIN:VCALENDAR
VERSION:2.0
PRODID:-//Partington Parish Council//Meeting Calendar//EN
CALSCALE:GREGORIAN
METHOD:PUBLISH
BEGIN:VEVENT
UID:71464-20251008@partingtonparishcouncil.gov.uk
DTSTAMP:20260421T183931Z
DTSTART;VALUE=DATE:20251008
DTEND;VALUE=DATE:20251009
SUMMARY:Council meeting 2025-10
DESCRIPTION:Full Council Meeting\nView details: https://partingtonparishcouncil.gov.uk/meetings/council-meeting-2025-10/
URL:https://partingtonparishcouncil.gov.uk/meetings/council-meeting-2025-10/
END:VEVENT
END:VCALENDAR
