BEGIN:VCALENDAR
VERSION:2.0
PRODID:-//Partington Parish Council//Meeting Calendar//EN
CALSCALE:GREGORIAN
METHOD:PUBLISH
BEGIN:VEVENT
UID:71403-20250514@partingtonparishcouncil.gov.uk
DTSTAMP:20260421T195006Z
DTSTART;VALUE=DATE:20250514
DTEND;VALUE=DATE:20250515
SUMMARY:Council meeting 2025-05
DESCRIPTION:Annual Meetings Meeting\nView details: https://partingtonparishcouncil.gov.uk/meetings/council-meeting-2025-05/
URL:https://partingtonparishcouncil.gov.uk/meetings/council-meeting-2025-05/
END:VEVENT
END:VCALENDAR
