BEGIN:VCALENDAR
VERSION:2.0
PRODID:-//Partington Parish Council//Meeting Calendar//EN
CALSCALE:GREGORIAN
METHOD:PUBLISH
BEGIN:VEVENT
UID:71373-20250409@partingtonparishcouncil.gov.uk
DTSTAMP:20260421T194853Z
DTSTART;VALUE=DATE:20250409
DTEND;VALUE=DATE:20250410
SUMMARY:Council meeting 2025-04
DESCRIPTION:Full Council Meeting\nView details: https://partingtonparishcouncil.gov.uk/meetings/council-meeting-2025-04/
URL:https://partingtonparishcouncil.gov.uk/meetings/council-meeting-2025-04/
END:VEVENT
END:VCALENDAR
