BEGIN:VCALENDAR
VERSION:2.0
PRODID:-//Partington Parish Council//Meeting Calendar//EN
CALSCALE:GREGORIAN
METHOD:PUBLISH
BEGIN:VEVENT
UID:71081-20240410@partingtonparishcouncil.gov.uk
DTSTAMP:20260422T034745Z
DTSTART;VALUE=DATE:20240410
DTEND;VALUE=DATE:20240411
SUMMARY:Council Meeting &#8211\\; 10th April 2024
DESCRIPTION:Full Council Meeting\nView details: https://partingtonparishcouncil.gov.uk/meetings/meeting-name-here-2/
URL:https://partingtonparishcouncil.gov.uk/meetings/meeting-name-here-2/
END:VEVENT
END:VCALENDAR
