BEGIN:VCALENDAR
VERSION:2.0
PRODID:-//Partington Parish Council//Meeting Calendar//EN
CALSCALE:GREGORIAN
METHOD:PUBLISH
BEGIN:VEVENT
UID:70644-20250212@partingtonparishcouncil.gov.uk
DTSTAMP:20260421T211922Z
DTSTART;VALUE=DATE:20250212
DTEND;VALUE=DATE:20250213
SUMMARY:Council Meeting &#8211\\; 12th February 2025
DESCRIPTION:Full Council Meeting\nView details: https://partingtonparishcouncil.gov.uk/meetings/council-meeting-3rd-february-2025/
URL:https://partingtonparishcouncil.gov.uk/meetings/council-meeting-3rd-february-2025/
END:VEVENT
END:VCALENDAR
