BEGIN:VCALENDAR
VERSION:2.0
PRODID:-//Partington Parish Council//Meeting Calendar//EN
CALSCALE:GREGORIAN
METHOD:PUBLISH
BEGIN:VEVENT
UID:70643-20250312@partingtonparishcouncil.gov.uk
DTSTAMP:20260421T201109Z
DTSTART;VALUE=DATE:20250312
DTEND;VALUE=DATE:20250313
SUMMARY:Council Meeting &#8211\\; 12th March 2025
DESCRIPTION:Full Council Meeting\nView details: https://partingtonparishcouncil.gov.uk/meetings/council-meeting-3rd-march-2025/
URL:https://partingtonparishcouncil.gov.uk/meetings/council-meeting-3rd-march-2025/
END:VEVENT
END:VCALENDAR
