BEGIN:VCALENDAR
VERSION:2.0
PRODID:-//Partington Parish Council//Meeting Calendar//EN
CALSCALE:GREGORIAN
METHOD:PUBLISH
BEGIN:VEVENT
UID:70589-20170517@partingtonparishcouncil.gov.uk
DTSTAMP:20260419T132851Z
DTSTART;VALUE=DATE:20170517
DTEND;VALUE=DATE:20170518
SUMMARY:Annual General Council &#8211\\; 17th May 2017
DESCRIPTION:Annual Meetings Meeting\nView details: https://partingtonparishcouncil.gov.uk/meetings/annual-general-council-17th-may-2017/
URL:https://partingtonparishcouncil.gov.uk/meetings/annual-general-council-17th-may-2017/
END:VEVENT
END:VCALENDAR
