BEGIN:VCALENDAR
VERSION:2.0
PRODID:-//Partington Parish Council//Meeting Calendar//EN
CALSCALE:GREGORIAN
METHOD:PUBLISH
BEGIN:VEVENT
UID:70584-20171002@partingtonparishcouncil.gov.uk
DTSTAMP:20260421T200734Z
DTSTART;VALUE=DATE:20171002
DTEND;VALUE=DATE:20171003
SUMMARY:Council Meeting &#8211\\; 2nd October 2017
DESCRIPTION:Full Council Meeting\nView details: https://partingtonparishcouncil.gov.uk/meetings/council-meeting-2nd-october-2017/
URL:https://partingtonparishcouncil.gov.uk/meetings/council-meeting-2nd-october-2017/
END:VEVENT
END:VCALENDAR
