BEGIN:VCALENDAR
VERSION:2.0
PRODID:-//Partington Parish Council//Meeting Calendar//EN
CALSCALE:GREGORIAN
METHOD:PUBLISH
BEGIN:VEVENT
UID:70575-20200601@partingtonparishcouncil.gov.uk
DTSTAMP:20260422T071242Z
DTSTART;VALUE=DATE:20200601
DTEND;VALUE=DATE:20200602
SUMMARY:Council Meeting &#8211\\; 1st June 2020
DESCRIPTION:Full Council Meeting\nView details: https://partingtonparishcouncil.gov.uk/meetings/council-meeting-1st-june-2020/
URL:https://partingtonparishcouncil.gov.uk/meetings/council-meeting-1st-june-2020/
END:VEVENT
END:VCALENDAR
