BEGIN:VCALENDAR
VERSION:2.0
PRODID:-//Partington Parish Council//Meeting Calendar//EN
CALSCALE:GREGORIAN
METHOD:PUBLISH
BEGIN:VEVENT
UID:70573-20190212@partingtonparishcouncil.gov.uk
DTSTAMP:20260421T231224Z
DTSTART;VALUE=DATE:20190212
DTEND;VALUE=DATE:20190213
SUMMARY:Council Meeting &#8211\\; 12th February 2019
DESCRIPTION:Full Council Meeting\nView details: https://partingtonparishcouncil.gov.uk/meetings/council-meeting-12th-february-2019/
URL:https://partingtonparishcouncil.gov.uk/meetings/council-meeting-12th-february-2019/
END:VEVENT
END:VCALENDAR
