BEGIN:VCALENDAR
VERSION:2.0
PRODID:-//Partington Parish Council//Meeting Calendar//EN
CALSCALE:GREGORIAN
METHOD:PUBLISH
BEGIN:VEVENT
UID:70568-20191104@partingtonparishcouncil.gov.uk
DTSTAMP:20260422T034631Z
DTSTART;VALUE=DATE:20191104
DTEND;VALUE=DATE:20191105
SUMMARY:Council Meeting &#8211\\; 4th November 2019
DESCRIPTION:Full Council Meeting\nView details: https://partingtonparishcouncil.gov.uk/meetings/council-meeting-4th-november-2019/
URL:https://partingtonparishcouncil.gov.uk/meetings/council-meeting-4th-november-2019/
END:VEVENT
END:VCALENDAR
