BEGIN:VCALENDAR
VERSION:2.0
PRODID:-//Partington Parish Council//Meeting Calendar//EN
CALSCALE:GREGORIAN
METHOD:PUBLISH
BEGIN:VEVENT
UID:70563-20191007@partingtonparishcouncil.gov.uk
DTSTAMP:20260422T034642Z
DTSTART;VALUE=DATE:20191007
DTEND;VALUE=DATE:20191008
SUMMARY:Council Meeting &#8211\\; 7th October 2019
DESCRIPTION:Full Council Meeting\nView details: https://partingtonparishcouncil.gov.uk/meetings/council-meeting-7th-october-2019/
URL:https://partingtonparishcouncil.gov.uk/meetings/council-meeting-7th-october-2019/
END:VEVENT
END:VCALENDAR
