BEGIN:VCALENDAR
VERSION:2.0
PRODID:-//Partington Parish Council//Meeting Calendar//EN
CALSCALE:GREGORIAN
METHOD:PUBLISH
BEGIN:VEVENT
UID:70550-20180709@partingtonparishcouncil.gov.uk
DTSTAMP:20260421T213601Z
DTSTART;VALUE=DATE:20180709
DTEND;VALUE=DATE:20180710
SUMMARY:Council Meeting &#8211\\; 9th July 2018
DESCRIPTION:Full Council Meeting\nView details: https://partingtonparishcouncil.gov.uk/meetings/council-meeting-9th-july-2018/
URL:https://partingtonparishcouncil.gov.uk/meetings/council-meeting-9th-july-2018/
END:VEVENT
END:VCALENDAR
