BEGIN:VCALENDAR
VERSION:2.0
PRODID:-//Partington Parish Council//Meeting Calendar//EN
CALSCALE:GREGORIAN
METHOD:PUBLISH
BEGIN:VEVENT
UID:70528-20181210@partingtonparishcouncil.gov.uk
DTSTAMP:20260421T231114Z
DTSTART;VALUE=DATE:20181210
DTEND;VALUE=DATE:20181211
SUMMARY:Council Meeting &#8211\\; 10th December 2018
DESCRIPTION:Full Council Meeting\nView details: https://partingtonparishcouncil.gov.uk/meetings/council-meeting-10th-december-2018/
URL:https://partingtonparishcouncil.gov.uk/meetings/council-meeting-10th-december-2018/
END:VEVENT
END:VCALENDAR
