BEGIN:VCALENDAR
VERSION:2.0
PRODID:-//Partington Parish Council//Meeting Calendar//EN
CALSCALE:GREGORIAN
METHOD:PUBLISH
BEGIN:VEVENT
UID:70526-20190312@partingtonparishcouncil.gov.uk
DTSTAMP:20260422T004138Z
DTSTART;VALUE=DATE:20190312
DTEND;VALUE=DATE:20190313
SUMMARY:Council Meeting &#8211\\; 12th March 2019
DESCRIPTION:Full Council Meeting\nView details: https://partingtonparishcouncil.gov.uk/meetings/council-meeting-12th-march-2019/
URL:https://partingtonparishcouncil.gov.uk/meetings/council-meeting-12th-march-2019/
END:VEVENT
END:VCALENDAR
