BEGIN:VCALENDAR
VERSION:2.0
PRODID:-//Partington Parish Council//Meeting Calendar//EN
CALSCALE:GREGORIAN
METHOD:PUBLISH
BEGIN:VEVENT
UID:70520-20200706@partingtonparishcouncil.gov.uk
DTSTAMP:20260422T071505Z
DTSTART;VALUE=DATE:20200706
DTEND;VALUE=DATE:20200707
SUMMARY:Council Meeting &#8211\\; 6th July 2020
DESCRIPTION:Full Council Meeting\nView details: https://partingtonparishcouncil.gov.uk/meetings/council-meeting-6th-july-2020/
URL:https://partingtonparishcouncil.gov.uk/meetings/council-meeting-6th-july-2020/
END:VEVENT
END:VCALENDAR
