BEGIN:VCALENDAR
VERSION:2.0
PRODID:-//Partington Parish Council//Meeting Calendar//EN
CALSCALE:GREGORIAN
METHOD:PUBLISH
BEGIN:VEVENT
UID:70517-20190514@partingtonparishcouncil.gov.uk
DTSTAMP:20260422T004604Z
DTSTART;VALUE=DATE:20190514
DTEND;VALUE=DATE:20190515
SUMMARY:Annual General Meeting &#8211\\; 14th May 2019
DESCRIPTION:Annual Meetings Meeting\nView details: https://partingtonparishcouncil.gov.uk/meetings/annual-general-meeting-14th-may-2019/
URL:https://partingtonparishcouncil.gov.uk/meetings/annual-general-meeting-14th-may-2019/
END:VEVENT
END:VCALENDAR
