BEGIN:VCALENDAR
VERSION:2.0
PRODID:-//Partington Parish Council//Meeting Calendar//EN
CALSCALE:GREGORIAN
METHOD:PUBLISH
BEGIN:VEVENT
UID:70515-20200302@partingtonparishcouncil.gov.uk
DTSTAMP:20260422T052647Z
DTSTART;VALUE=DATE:20200302
DTEND;VALUE=DATE:20200303
SUMMARY:Council Meeting &#8211\\; 2nd March 2020
DESCRIPTION:Full Council Meeting\nView details: https://partingtonparishcouncil.gov.uk/meetings/council-meeting-2nd-march-2020/
URL:https://partingtonparishcouncil.gov.uk/meetings/council-meeting-2nd-march-2020/
END:VEVENT
END:VCALENDAR
