BEGIN:VCALENDAR
VERSION:2.0
PRODID:-//Partington Parish Council//Meeting Calendar//EN
CALSCALE:GREGORIAN
METHOD:PUBLISH
BEGIN:VEVENT
UID:70513-20190912@partingtonparishcouncil.gov.uk
DTSTAMP:20260422T035439Z
DTSTART;VALUE=DATE:20190912
DTEND;VALUE=DATE:20190913
SUMMARY:Council Meeting &#8211\\; 12th September 2019
DESCRIPTION:Full Council Meeting\nView details: https://partingtonparishcouncil.gov.uk/meetings/council-meeting-12th-september-2019/
URL:https://partingtonparishcouncil.gov.uk/meetings/council-meeting-12th-september-2019/
END:VEVENT
END:VCALENDAR
