BEGIN:VCALENDAR
VERSION:2.0
PRODID:-//Partington Parish Council//Meeting Calendar//EN
CALSCALE:GREGORIAN
METHOD:PUBLISH
BEGIN:VEVENT
UID:70508-20230206@partingtonparishcouncil.gov.uk
DTSTAMP:20260424T084654Z
DTSTART;VALUE=DATE:20230206
DTEND;VALUE=DATE:20230207
SUMMARY:Council Meeting &#8211\\; 6th February 2023
DESCRIPTION:Full Council Meeting\nView details: https://partingtonparishcouncil.gov.uk/meetings/council-meeting-6th-february-2023/
URL:https://partingtonparishcouncil.gov.uk/meetings/council-meeting-6th-february-2023/
END:VEVENT
END:VCALENDAR
