BEGIN:VCALENDAR
VERSION:2.0
PRODID:-//Partington Parish Council//Meeting Calendar//EN
CALSCALE:GREGORIAN
METHOD:PUBLISH
BEGIN:VEVENT
UID:70506-20230612@partingtonparishcouncil.gov.uk
DTSTAMP:20260424T090343Z
DTSTART;VALUE=DATE:20230612
DTEND;VALUE=DATE:20230613
SUMMARY:Council Meeting &#8211\\; 12th June 2023
DESCRIPTION:Full Council Meeting\nView details: https://partingtonparishcouncil.gov.uk/meetings/council-meeting-12th-june-2023/
URL:https://partingtonparishcouncil.gov.uk/meetings/council-meeting-12th-june-2023/
END:VEVENT
END:VCALENDAR
