BEGIN:VCALENDAR
VERSION:2.0
PRODID:-//Partington Parish Council//Meeting Calendar//EN
CALSCALE:GREGORIAN
METHOD:PUBLISH
BEGIN:VEVENT
UID:70478-20221201@partingtonparishcouncil.gov.uk
DTSTAMP:20260424T084624Z
DTSTART;VALUE=DATE:20221201
DTEND;VALUE=DATE:20221202
SUMMARY:Council Meeting &#8211\\; 1st December 2022
DESCRIPTION:Full Council Meeting\nView details: https://partingtonparishcouncil.gov.uk/meetings/council-meeting-1st-december-2022/
URL:https://partingtonparishcouncil.gov.uk/meetings/council-meeting-1st-december-2022/
END:VEVENT
END:VCALENDAR
