BEGIN:VCALENDAR
VERSION:2.0
PRODID:-//Partington Parish Council//Meeting Calendar//EN
CALSCALE:GREGORIAN
METHOD:PUBLISH
BEGIN:VEVENT
UID:70451-20200504@partingtonparishcouncil.gov.uk
DTSTAMP:20260422T052908Z
DTSTART;VALUE=DATE:20200504
DTEND;VALUE=DATE:20200505
SUMMARY:Annual Council Meeting &#8211\\; 4th May 2020
DESCRIPTION:Annual Meetings Meeting\nView details: https://partingtonparishcouncil.gov.uk/meetings/annual-council-meeting-4th-may-2020/
URL:https://partingtonparishcouncil.gov.uk/meetings/annual-council-meeting-4th-may-2020/
END:VEVENT
END:VCALENDAR
