BEGIN:VCALENDAR
VERSION:2.0
PRODID:-//Partington Parish Council//Meeting Calendar//EN
CALSCALE:GREGORIAN
METHOD:PUBLISH
BEGIN:VEVENT
UID:70449-20180409@partingtonparishcouncil.gov.uk
DTSTAMP:20260421T213212Z
DTSTART;VALUE=DATE:20180409
DTEND;VALUE=DATE:20180410
SUMMARY:Council Meeting &#8211\\; 9th April 2018
DESCRIPTION:Full Council Meeting\nView details: https://partingtonparishcouncil.gov.uk/meetings/council-meeting-9th-april-2018/
URL:https://partingtonparishcouncil.gov.uk/meetings/council-meeting-9th-april-2018/
END:VEVENT
END:VCALENDAR
