BEGIN:VCALENDAR
VERSION:2.0
PRODID:-//Partington Parish Council//Meeting Calendar//EN
CALSCALE:GREGORIAN
METHOD:PUBLISH
BEGIN:VEVENT
UID:70447-20180208@partingtonparishcouncil.gov.uk
DTSTAMP:20260421T200623Z
DTSTART;VALUE=DATE:20180208
DTEND;VALUE=DATE:20180209
SUMMARY:Council Meeting &#8211\\; 8th February 2018
DESCRIPTION:Full Council Meeting\nView details: https://partingtonparishcouncil.gov.uk/meetings/council-meeting-8th-february-2018/
URL:https://partingtonparishcouncil.gov.uk/meetings/council-meeting-8th-february-2018/
END:VEVENT
END:VCALENDAR
